BEGIN:VCALENDAR
PRODID:-//AT Content Types//AT Event//EN
VERSION:2.0
METHOD:PUBLISH
BEGIN:VEVENT
DTSTAMP:20260423T135216Z
CREATED:20211102T145456Z
UID:ATEvent-7eea5e97a1a94533a1f1fd8a83ed5a98
LAST-MODIFIED:20220111T154132Z
SUMMARY:City centre traders and local businesses
DTSTART:20211109T190000Z
DTEND:20211109T201500Z
DESCRIPTION:Online consultation event\nRegister by emailing communityp
 lanning@armaghbanbridgecraigavon.gov.uk
CLASS:PUBLIC
END:VEVENT
END:VCALENDAR
