BEGIN:VCALENDAR
PRODID:-//AT Content Types//AT Event//EN
VERSION:2.0
METHOD:PUBLISH
BEGIN:VEVENT
DTSTAMP:20260423T144610Z
CREATED:20211102T145457Z
UID:ATEvent-2b7e4271fd8b4556844c7f06ce09d773
LAST-MODIFIED:20220111T154132Z
SUMMARY:Community Voluntary Sector Panel
DTSTART:20211109T103000Z
DTEND:20211109T113000Z
DESCRIPTION:Online consultation event\nRegister by emailing communityp
 lanning@armaghbanbridgecraigavon.gov.uk
CLASS:PUBLIC
END:VEVENT
END:VCALENDAR
