BEGIN:VCALENDAR
PRODID:-//AT Content Types//AT Event//EN
VERSION:2.0
METHOD:PUBLISH
BEGIN:VEVENT
DTSTAMP:20260420T100158Z
CREATED:20200903T221503Z
UID:ATEvent-9eb4ae1c7efd43b0af98b253f7cabc30
LAST-MODIFIED:20200929T141559Z
SUMMARY:Information Event one
DTSTART:20201006T133000Z
DTEND:20201006T143000Z
DESCRIPTION:If you have any questions about applying for funding\, wou
 ld like more information or some help with your application please joi
 n one of our online information sessions by registering your attendanc
 e by emailing: communityplanning@armaghbanbridgecraigavon.gov.uk
CLASS:PUBLIC
END:VEVENT
END:VCALENDAR
