BEGIN:VCALENDAR
PRODID:-//AT Content Types//AT Event//EN
VERSION:2.0
METHOD:PUBLISH
BEGIN:VEVENT
DTSTAMP:20260420T112219Z
CREATED:20200903T221503Z
UID:ATEvent-afc99ab30c6e4364870de3b412b6a4b3
LAST-MODIFIED:20200929T141559Z
SUMMARY:Information Event three
DTSTART:20201020T183000Z
DTEND:20201020T193000Z
DESCRIPTION:If you have any questions about applying for funding\, wou
 ld like more information or some help with your application please joi
 n one of our online information sessions by registering your attendanc
 e by emailing: communityplanning@armaghbanbridgecraigavon.gov.uk
CLASS:PUBLIC
END:VEVENT
END:VCALENDAR
