BEGIN:VCALENDAR
PRODID:-//AT Content Types//AT Event//EN
VERSION:2.0
METHOD:PUBLISH
BEGIN:VEVENT
DTSTAMP:20260422T082430Z
CREATED:20200903T221503Z
UID:ATEvent-f291844185af4df2bc0e73a7441ce68e
LAST-MODIFIED:20200929T141559Z
SUMMARY:Information Event two
DTSTART:20201013T093000Z
DTEND:20201013T103000Z
DESCRIPTION:If you have any questions about applying for funding\, wou
 ld like more information or some help with your application please joi
 n one of our online information sessions by registering your attendanc
 e by emailing: communityplanning@armaghbanbridgecraigavon.gov.uk
CLASS:PUBLIC
END:VEVENT
END:VCALENDAR
