BEGIN:VCALENDAR
PRODID:-//AT Content Types//AT Event//EN
VERSION:2.0
METHOD:PUBLISH
BEGIN:VEVENT
DTSTAMP:20260423T162505Z
CREATED:20260413T104701Z
UID:ATEvent-d2e0fb054016450fa0f79cf48b55230b
LAST-MODIFIED:20260413T104705Z
SUMMARY:In Person and Online Information Sessions
DTSTART:20260416T180000Z
DTEND:20260429T190000Z
DESCRIPTION:You can attend one of our information sessions which will 
 be held over the coming weeks as listed below:\n\nInformation Sessions
 \n\nInâ€‘person sessions\n\nTuesday 21st April â€“ 7:00pm â€“ 8:00pm\,
  The Old Courthouse\, 7 Main Street\, Markethill\nWednesday 22nd April
  â€“ 7:00pm â€“ 8:00pm\, Craigavon Golf and Ski Centre\, Craigavon\nTh
 ursday 23rd April â€“ 7:00pm â€“ 8:00pm\, Bowling Pavilion\, Lurgan Ro
 ad\, Dromore\nOnline (Zoom) sessions\n\nThursday 16th April: Online vi
 a Zoom 7:00pm â€“ 8:00pm\nFriday 17th April: Online via Zoom 10:30am â
 €“ 11:30am\nMonday 20th April: Online via Zoom 2:30pm â€“ 3:30pm\nThur
 sday 29th April: Online via Zoom 4:00pm â€“ 5:00pm\n\n\nTo register pl
 ease complete the JOTFORM by clicking here:\n\nhttps://form.jotform.co
 m/260912681868064
CLASS:PUBLIC
END:VEVENT
END:VCALENDAR
